BEGIN:VCALENDAR
VERSION:2.0
PRODID:icalendar-ruby
CALSCALE:GREGORIAN
METHOD:PUBLISH
BEGIN:VEVENT
DTSTAMP:20260421T085331Z
UID:68-445549@keestreetumc.org
DTSTART:20260502T200000Z
DTEND:20260502T220000Z
CLASS:PUBLIC
CREATED:20260406T095309
DESCRIPTION:ALL you can eat Bean Dinner.\nCost: Adults $10.00 Children unde
 r 12 $8.00
LAST-MODIFIED:20260406T095309
LOCATION:311 Kee Street\, Princeton\, WV 24740
SUMMARY:FAMOUS BEAN DINNER
URL;VALUE=URI:https://www.keestreetumc.org/events/famous-bean-dinner--68/20
 26-05-02
END:VEVENT
END:VCALENDAR
