BEGIN:VCALENDAR
VERSION:2.0
PRODID:icalendar-ruby
CALSCALE:GREGORIAN
METHOD:PUBLISH
BEGIN:VEVENT
DTSTAMP:20260421T090213Z
UID:69-445550@keestreetumc.org
DTSTART:20260510T134500Z
DTEND:20260510T144500Z
CLASS:PUBLIC
CREATED:20260406T095551
DESCRIPTION:
LAST-MODIFIED:20260406T095551
LOCATION:311 Kee Street\, Princeton WV 24740
SUMMARY:Sunday School
URL;VALUE=URI:https://www.keestreetumc.org/events/sunday-school--69/2026-05
 -10
END:VEVENT
END:VCALENDAR
