BEGIN:VCALENDAR
VERSION:2.0
PRODID:icalendar-ruby
CALSCALE:GREGORIAN
METHOD:PUBLISH
BEGIN:VEVENT
DTSTAMP:20260421T085331Z
UID:70-445551@keestreetumc.org
DTSTART:20260517T134500Z
DTEND:20260517T144500Z
CLASS:PUBLIC
CREATED:20260406T095645
DESCRIPTION:
LAST-MODIFIED:20260406T095645
LOCATION:311 Kee Street\, Princeton WV 24740
SUMMARY:Sunday School
URL;VALUE=URI:https://www.keestreetumc.org/events/sunday-school--70/2026-05
 -17
END:VEVENT
END:VCALENDAR
