BEGIN:VCALENDAR
VERSION:2.0
PRODID:icalendar-ruby
CALSCALE:GREGORIAN
METHOD:PUBLISH
BEGIN:VEVENT
DTSTAMP:20260421T090506Z
UID:71-445552@keestreetumc.org
DTSTART:20260524T134500Z
DTEND:20260524T144500Z
CLASS:PUBLIC
CREATED:20260406T095731
DESCRIPTION:
LAST-MODIFIED:20260406T095731
LOCATION:311 Kee Street\, Princeton WV 24740
SUMMARY:Sunday School
URL;VALUE=URI:https://www.keestreetumc.org/events/sunday-school--71/2026-05
 -24
END:VEVENT
END:VCALENDAR
