BEGIN:VCALENDAR
VERSION:2.0
PRODID:icalendar-ruby
CALSCALE:GREGORIAN
METHOD:PUBLISH
BEGIN:VEVENT
DTSTAMP:20260421T085232Z
UID:73-445554@keestreetumc.org
DTSTART:20260531T134500Z
DTEND:20260531T144500Z
CLASS:PUBLIC
CREATED:20260406T095905
DESCRIPTION:
LAST-MODIFIED:20260406T095905
LOCATION:311 Kee Street\, Princeton WV 24740
SUMMARY:Sunday School
URL;VALUE=URI:https://www.keestreetumc.org/events/sunday-school--73/2026-05
 -31
END:VEVENT
END:VCALENDAR
