BEGIN:VCALENDAR
VERSION:2.0
PRODID:icalendar-ruby
CALSCALE:GREGORIAN
METHOD:PUBLISH
BEGIN:VEVENT
DTSTAMP:20260421T085406Z
UID:74-445555@keestreetumc.org
DTSTART:20260503T134500Z
DTEND:20260503T144500Z
CLASS:PUBLIC
CREATED:20260406T100036
DESCRIPTION:
LAST-MODIFIED:20260406T100036
LOCATION:311 Kee Street\, Princeton WV 24740
SUMMARY:Sunday School
URL;VALUE=URI:https://www.keestreetumc.org/events/sunday-school--74/2026-05
 -03
END:VEVENT
END:VCALENDAR
