BEGIN:VCALENDAR
VERSION:2.0
PRODID:icalendar-ruby
CALSCALE:GREGORIAN
METHOD:PUBLISH
BEGIN:VEVENT
DTSTAMP:20260421T103705Z
UID:5-476330@keestreetumc.org
DTSTART:20261011T150000Z
DTEND:20261011T160000Z
CLASS:PUBLIC
CREATED:20260420T210854
DESCRIPTION:Sunday Worship
LAST-MODIFIED:20260420T210854
LOCATION:
SUMMARY:Sunday Worship
URL;VALUE=URI:https://www.keestreetumc.org/events/sunday-worship/2026-10-11
END:VEVENT
END:VCALENDAR
