BEGIN:VCALENDAR
VERSION:2.0
PRODID:icalendar-ruby
CALSCALE:GREGORIAN
METHOD:PUBLISH
BEGIN:VEVENT
DTSTAMP:20260421T154255Z
UID:5-477031@keestreetumc.org
DTSTART:20261101T160000Z
DTEND:20261101T170000Z
CLASS:PUBLIC
CREATED:20260421T105115
DESCRIPTION:Sunday Worship
LAST-MODIFIED:20260421T105115
LOCATION:
SUMMARY:Sunday Worship
URL;VALUE=URI:https://www.keestreetumc.org/events/sunday-worship/2026-11-01
END:VEVENT
END:VCALENDAR
